BEGIN:VCALENDAR
VERSION:2.0
PRODID:-//Pflege- und Adoptivelterninitiative Solingen e.V. - ECPv6.15.20//NONSGML v1.0//EN
CALSCALE:GREGORIAN
METHOD:PUBLISH
X-ORIGINAL-URL:https://pas-solingen.de
X-WR-CALDESC:Veranstaltungen für Pflege- und Adoptivelterninitiative Solingen e.V.
REFRESH-INTERVAL;VALUE=DURATION:PT1H
X-Robots-Tag:noindex
X-PUBLISHED-TTL:PT1H
BEGIN:VTIMEZONE
TZID:Europe/Berlin
BEGIN:DAYLIGHT
TZOFFSETFROM:+0100
TZOFFSETTO:+0200
TZNAME:CEST
DTSTART:20230326T010000
END:DAYLIGHT
BEGIN:STANDARD
TZOFFSETFROM:+0200
TZOFFSETTO:+0100
TZNAME:CET
DTSTART:20231029T010000
END:STANDARD
BEGIN:DAYLIGHT
TZOFFSETFROM:+0100
TZOFFSETTO:+0200
TZNAME:CEST
DTSTART:20240331T010000
END:DAYLIGHT
BEGIN:STANDARD
TZOFFSETFROM:+0200
TZOFFSETTO:+0100
TZNAME:CET
DTSTART:20241027T010000
END:STANDARD
BEGIN:DAYLIGHT
TZOFFSETFROM:+0100
TZOFFSETTO:+0200
TZNAME:CEST
DTSTART:20250330T010000
END:DAYLIGHT
BEGIN:STANDARD
TZOFFSETFROM:+0200
TZOFFSETTO:+0100
TZNAME:CET
DTSTART:20251026T010000
END:STANDARD
END:VTIMEZONE
BEGIN:VEVENT
DTSTART;TZID=Europe/Berlin:20240106T093000
DTEND;TZID=Europe/Berlin:20240106T123000
DTSTAMP:20260422T105938
CREATED:20240426T194446Z
LAST-MODIFIED:20240426T194446Z
UID:1676-1704533400-1704544200@pas-solingen.de
SUMMARY:Reitgruppe
DESCRIPTION:für Kinder ab 4 Jahren \n1. Gruppe: 09:30 – 11:00 Uhr\n2. Gruppe: 10:30 – 12:00 Uhr\n3. Gruppe: 11:30 – 12:30 Uhr \nKosten: 30\,00 € mtl. für Vereinsmitglieder
URL:https://pas-solingen.de/event/reitgruppe-2/
LOCATION:Jugendreitstall\, Hübben 25\, Solingen\, 42655\, Deutschland
CATEGORIES:Angebote für Kinder und Jugendliche
END:VEVENT
BEGIN:VEVENT
DTSTART;TZID=Europe/Berlin:20240107T100000
DTEND;TZID=Europe/Berlin:20240107T130000
DTSTAMP:20260422T105938
CREATED:20240425T212937Z
LAST-MODIFIED:20250112T211212Z
UID:1577-1704621600-1704632400@pas-solingen.de
SUMMARY:Bowlen mit der ganzen Familie
DESCRIPTION:5\,00 € (inkl. Essen für die Kinder)
URL:https://pas-solingen.de/event/bowlen-mit-der-ganzen-familie/
LOCATION:Rainbowpark\, Dönberger Str. 70\, Wuppertal\, 42111\, Deutschland
CATEGORIES:Angebote für die ganze Familie
END:VEVENT
BEGIN:VEVENT
DTSTART;TZID=Europe/Berlin:20240107T110000
DTEND;TZID=Europe/Berlin:20240107T150000
DTSTAMP:20260422T105938
CREATED:20240426T195406Z
LAST-MODIFIED:20250112T211211Z
UID:1746-1704625200-1704639600@pas-solingen.de
SUMMARY:PAS Bogenkinder
DESCRIPTION:für Kinder (ab 10 Jahre)\, Jugendliche und Erwachsene \nBis 31.03. Indoor\, ab 01.04. Outdoor \nKosten: 10\,00 € mtl. für Mitglieder
URL:https://pas-solingen.de/event/pas-bogenkinder/
CATEGORIES:Angebote für die ganze Familie
END:VEVENT
BEGIN:VEVENT
DTSTART;TZID=Europe/Berlin:20240113T090000
DTEND;TZID=Europe/Berlin:20240113T163000
DTSTAMP:20260422T105938
CREATED:20240426T184819Z
LAST-MODIFIED:20240426T185121Z
UID:1599-1705136400-1705163400@pas-solingen.de
SUMMARY:Erste Hilfe Kurs
DESCRIPTION:15\,00 € inkl. Zertifikat
URL:https://pas-solingen.de/event/erste-hilfe-kurs/
LOCATION:Café Friedrichshof\, Friedrichstr. 3\, Solingen\, 42655\, Deutschland
CATEGORIES:Angebote für Erwachsene
END:VEVENT
BEGIN:VEVENT
DTSTART;TZID=Europe/Berlin:20240113T093000
DTEND;TZID=Europe/Berlin:20240113T123000
DTSTAMP:20260422T105938
CREATED:20240426T194515Z
LAST-MODIFIED:20240426T194515Z
UID:1679-1705138200-1705149000@pas-solingen.de
SUMMARY:Reitgruppe
DESCRIPTION:für Kinder ab 4 Jahren \n1. Gruppe: 09:30 – 11:00 Uhr\n2. Gruppe: 10:30 – 12:00 Uhr\n3. Gruppe: 11:30 – 12:30 Uhr \nKosten: 30\,00 € mtl. für Vereinsmitglieder
URL:https://pas-solingen.de/event/reitgruppe-2-2/
LOCATION:Jugendreitstall\, Hübben 25\, Solingen\, 42655\, Deutschland
CATEGORIES:Angebote für Kinder und Jugendliche
END:VEVENT
BEGIN:VEVENT
DTSTART;TZID=Europe/Berlin:20240114T110000
DTEND;TZID=Europe/Berlin:20240114T150000
DTSTAMP:20260422T105938
CREATED:20240426T195503Z
LAST-MODIFIED:20250112T211211Z
UID:1750-1705230000-1705244400@pas-solingen.de
SUMMARY:PAS Bogenkinder
DESCRIPTION:für Kinder (ab 10 Jahre)\, Jugendliche und Erwachsene \nBis 31.03. Indoor\, ab 01.04. Outdoor \nKosten: 10\,00 € mtl. für Mitglieder
URL:https://pas-solingen.de/event/pas-bogenkinder-2/
CATEGORIES:Angebote für die ganze Familie
END:VEVENT
BEGIN:VEVENT
DTSTART;TZID=Europe/Berlin:20240120T093000
DTEND;TZID=Europe/Berlin:20240120T123000
DTSTAMP:20260422T105938
CREATED:20240426T194542Z
LAST-MODIFIED:20240426T194542Z
UID:1681-1705743000-1705753800@pas-solingen.de
SUMMARY:Reitgruppe
DESCRIPTION:für Kinder ab 4 Jahren \n1. Gruppe: 09:30 – 11:00 Uhr\n2. Gruppe: 10:30 – 12:00 Uhr\n3. Gruppe: 11:30 – 12:30 Uhr \nKosten: 30\,00 € mtl. für Vereinsmitglieder
URL:https://pas-solingen.de/event/reitgruppe-2-2-2/
LOCATION:Jugendreitstall\, Hübben 25\, Solingen\, 42655\, Deutschland
CATEGORIES:Angebote für Kinder und Jugendliche
END:VEVENT
BEGIN:VEVENT
DTSTART;TZID=Europe/Berlin:20240121T110000
DTEND;TZID=Europe/Berlin:20240121T150000
DTSTAMP:20260422T105938
CREATED:20240426T195523Z
LAST-MODIFIED:20250112T211211Z
UID:1752-1705834800-1705849200@pas-solingen.de
SUMMARY:PAS Bogenkinder
DESCRIPTION:für Kinder (ab 10 Jahre)\, Jugendliche und Erwachsene \nBis 31.03. Indoor\, ab 01.04. Outdoor \nKosten: 10\,00 € mtl. für Mitglieder
URL:https://pas-solingen.de/event/pas-bogenkinder-3/
CATEGORIES:Angebote für die ganze Familie
END:VEVENT
BEGIN:VEVENT
DTSTART;TZID=Europe/Berlin:20240127T093000
DTEND;TZID=Europe/Berlin:20240127T123000
DTSTAMP:20260422T105938
CREATED:20240426T194602Z
LAST-MODIFIED:20240426T194602Z
UID:1684-1706347800-1706358600@pas-solingen.de
SUMMARY:Reitgruppe
DESCRIPTION:für Kinder ab 4 Jahren \n1. Gruppe: 09:30 – 11:00 Uhr\n2. Gruppe: 10:30 – 12:00 Uhr\n3. Gruppe: 11:30 – 12:30 Uhr \nKosten: 30\,00 € mtl. für Vereinsmitglieder
URL:https://pas-solingen.de/event/reitgruppe-2-2-2-2/
LOCATION:Jugendreitstall\, Hübben 25\, Solingen\, 42655\, Deutschland
CATEGORIES:Angebote für Kinder und Jugendliche
END:VEVENT
BEGIN:VEVENT
DTSTART;TZID=Europe/Berlin:20240128T110000
DTEND;TZID=Europe/Berlin:20240128T150000
DTSTAMP:20260422T105938
CREATED:20240426T195545Z
LAST-MODIFIED:20250112T211211Z
UID:1755-1706439600-1706454000@pas-solingen.de
SUMMARY:PAS Bogenkinder
DESCRIPTION:für Kinder (ab 10 Jahre)\, Jugendliche und Erwachsene \nBis 31.03. Indoor\, ab 01.04. Outdoor \nKosten: 10\,00 € mtl. für Mitglieder
URL:https://pas-solingen.de/event/pas-bogenkinder-4/
CATEGORIES:Angebote für die ganze Familie
END:VEVENT
BEGIN:VEVENT
DTSTART;TZID=Europe/Berlin:20240129T093000
DTEND;TZID=Europe/Berlin:20240129T113000
DTSTAMP:20260422T105938
CREATED:20240426T185039Z
LAST-MODIFIED:20240426T192309Z
UID:1603-1706520600-1706527800@pas-solingen.de
SUMMARY:Systemische Beratung
DESCRIPTION:Systemische Beratung (verbindliches Gruppengespräch zu herausfordernden Themen in Pflege – und Adoptivfamilien) \n50\,00 € im Halbjahr
URL:https://pas-solingen.de/event/systemische-beratung/
LOCATION:Nümmen 18\, Nümmen 18\, Solingen\, 42653
CATEGORIES:Angebote für Erwachsene
END:VEVENT
END:VCALENDAR