BEGIN:VCALENDAR
VERSION:2.0
PRODID:-//Pflege- und Adoptivelterninitiative Solingen e.V. - ECPv6.15.20//NONSGML v1.0//EN
CALSCALE:GREGORIAN
METHOD:PUBLISH
X-WR-CALNAME:Pflege- und Adoptivelterninitiative Solingen e.V.
X-ORIGINAL-URL:https://pas-solingen.de
X-WR-CALDESC:Veranstaltungen für Pflege- und Adoptivelterninitiative Solingen e.V.
REFRESH-INTERVAL;VALUE=DURATION:PT1H
X-Robots-Tag:noindex
X-PUBLISHED-TTL:PT1H
BEGIN:VTIMEZONE
TZID:Europe/Berlin
BEGIN:DAYLIGHT
TZOFFSETFROM:+0100
TZOFFSETTO:+0200
TZNAME:CEST
DTSTART:20230326T010000
END:DAYLIGHT
BEGIN:STANDARD
TZOFFSETFROM:+0200
TZOFFSETTO:+0100
TZNAME:CET
DTSTART:20231029T010000
END:STANDARD
BEGIN:DAYLIGHT
TZOFFSETFROM:+0100
TZOFFSETTO:+0200
TZNAME:CEST
DTSTART:20240331T010000
END:DAYLIGHT
BEGIN:STANDARD
TZOFFSETFROM:+0200
TZOFFSETTO:+0100
TZNAME:CET
DTSTART:20241027T010000
END:STANDARD
BEGIN:DAYLIGHT
TZOFFSETFROM:+0100
TZOFFSETTO:+0200
TZNAME:CEST
DTSTART:20250330T010000
END:DAYLIGHT
BEGIN:STANDARD
TZOFFSETFROM:+0200
TZOFFSETTO:+0100
TZNAME:CET
DTSTART:20251026T010000
END:STANDARD
END:VTIMEZONE
BEGIN:VEVENT
DTSTART;TZID=Europe/Berlin:20240203T093000
DTEND;TZID=Europe/Berlin:20240203T123000
DTSTAMP:20260422T093144
CREATED:20240426T194638Z
LAST-MODIFIED:20240426T194638Z
UID:1687-1706952600-1706963400@pas-solingen.de
SUMMARY:Reitgruppe
DESCRIPTION:für Kinder ab 4 Jahren \n1. Gruppe: 09:30 – 11:00 Uhr\n2. Gruppe: 10:30 – 12:00 Uhr\n3. Gruppe: 11:30 – 12:30 Uhr \nKosten: 30\,00 € mtl. für Vereinsmitglieder
URL:https://pas-solingen.de/event/reitgruppe-2-2-2-3/
LOCATION:Jugendreitstall\, Hübben 25\, Solingen\, 42655\, Deutschland
CATEGORIES:Angebote für Kinder und Jugendliche
END:VEVENT
BEGIN:VEVENT
DTSTART;TZID=Europe/Berlin:20240204T110000
DTEND;TZID=Europe/Berlin:20240204T150000
DTSTAMP:20260422T093144
CREATED:20240426T195603Z
LAST-MODIFIED:20250112T211211Z
UID:1758-1707044400-1707058800@pas-solingen.de
SUMMARY:PAS Bogenkinder
DESCRIPTION:für Kinder (ab 10 Jahre)\, Jugendliche und Erwachsene \nBis 31.03. Indoor\, ab 01.04. Outdoor \nKosten: 10\,00 € mtl. für Mitglieder
URL:https://pas-solingen.de/event/pas-bogenkinder-5/
CATEGORIES:Angebote für die ganze Familie
END:VEVENT
BEGIN:VEVENT
DTSTART;TZID=Europe/Berlin:20240210T093000
DTEND;TZID=Europe/Berlin:20240210T123000
DTSTAMP:20260422T093144
CREATED:20240426T194659Z
LAST-MODIFIED:20240426T194659Z
UID:1690-1707557400-1707568200@pas-solingen.de
SUMMARY:Reitgruppe
DESCRIPTION:für Kinder ab 4 Jahren \n1. Gruppe: 09:30 – 11:00 Uhr\n2. Gruppe: 10:30 – 12:00 Uhr\n3. Gruppe: 11:30 – 12:30 Uhr \nKosten: 30\,00 € mtl. für Vereinsmitglieder
URL:https://pas-solingen.de/event/reitgruppe-2-2-2-3-2/
LOCATION:Jugendreitstall\, Hübben 25\, Solingen\, 42655\, Deutschland
CATEGORIES:Angebote für Kinder und Jugendliche
END:VEVENT
BEGIN:VEVENT
DTSTART;TZID=Europe/Berlin:20240211T110000
DTEND;TZID=Europe/Berlin:20240211T150000
DTSTAMP:20260422T093144
CREATED:20240426T195620Z
LAST-MODIFIED:20250112T211211Z
UID:1761-1707649200-1707663600@pas-solingen.de
SUMMARY:PAS Bogenkinder
DESCRIPTION:für Kinder (ab 10 Jahre)\, Jugendliche und Erwachsene \nBis 31.03. Indoor\, ab 01.04. Outdoor \nKosten: 10\,00 € mtl. für Mitglieder
URL:https://pas-solingen.de/event/pas-bogenkinder-6/
CATEGORIES:Angebote für die ganze Familie
END:VEVENT
BEGIN:VEVENT
DTSTART;TZID=Europe/Berlin:20240217T093000
DTEND;TZID=Europe/Berlin:20240217T123000
DTSTAMP:20260422T093144
CREATED:20240426T194715Z
LAST-MODIFIED:20240426T194721Z
UID:1693-1708162200-1708173000@pas-solingen.de
SUMMARY:Reitgruppe
DESCRIPTION:für Kinder ab 4 Jahren \n1. Gruppe: 09:30 – 11:00 Uhr\n2. Gruppe: 10:30 – 12:00 Uhr\n3. Gruppe: 11:30 – 12:30 Uhr \nKosten: 30\,00 € mtl. für Vereinsmitglieder
URL:https://pas-solingen.de/event/reitgruppe-2-2-2-3-2-2/
LOCATION:Jugendreitstall\, Hübben 25\, Solingen\, 42655\, Deutschland
CATEGORIES:Angebote für Kinder und Jugendliche
END:VEVENT
BEGIN:VEVENT
DTSTART;TZID=Europe/Berlin:20240218T110000
DTEND;TZID=Europe/Berlin:20240218T150000
DTSTAMP:20260422T093144
CREATED:20240426T195644Z
LAST-MODIFIED:20250112T211211Z
UID:1763-1708254000-1708268400@pas-solingen.de
SUMMARY:PAS Bogenkinder
DESCRIPTION:für Kinder (ab 10 Jahre)\, Jugendliche und Erwachsene \nBis 31.03. Indoor\, ab 01.04. Outdoor \nKosten: 10\,00 € mtl. für Mitglieder
URL:https://pas-solingen.de/event/pas-bogenkinder-7/
CATEGORIES:Angebote für die ganze Familie
END:VEVENT
BEGIN:VEVENT
DTSTART;TZID=Europe/Berlin:20240219T093000
DTEND;TZID=Europe/Berlin:20240219T113000
DTSTAMP:20260422T093144
CREATED:20240426T185222Z
LAST-MODIFIED:20240426T192824Z
UID:1607-1708335000-1708342200@pas-solingen.de
SUMMARY:Systemische Beratung
DESCRIPTION:Systemische Beratung (verbindliches Gruppengespräch zu herausfordernden Themen in Pflege – und Adoptivfamilien) \nKosten: 50\,00 € im Halbjahr
URL:https://pas-solingen.de/event/systemische-beratung-2/
LOCATION:Nümmen 18\, Nümmen 18\, Solingen\, 42653
CATEGORIES:Angebote für Erwachsene
END:VEVENT
BEGIN:VEVENT
DTSTART;TZID=Europe/Berlin:20240221T190000
DTEND;TZID=Europe/Berlin:20240221T220000
DTSTAMP:20260422T093144
CREATED:20240426T185419Z
LAST-MODIFIED:20240426T191241Z
UID:1610-1708542000-1708552800@pas-solingen.de
SUMMARY:Kochen
DESCRIPTION:Kosten: 5\,00 €
URL:https://pas-solingen.de/event/kochen/
LOCATION:Café Friedrichshof\, Friedrichstr. 3\, Solingen\, 42655\, Deutschland
CATEGORIES:Angebote für Erwachsene
END:VEVENT
BEGIN:VEVENT
DTSTART;TZID=Europe/Berlin:20240224T093000
DTEND;TZID=Europe/Berlin:20240224T123000
DTSTAMP:20260422T093144
CREATED:20240426T194737Z
LAST-MODIFIED:20240426T194737Z
UID:1697-1708767000-1708777800@pas-solingen.de
SUMMARY:Reitgruppe
DESCRIPTION:für Kinder ab 4 Jahren \n1. Gruppe: 09:30 – 11:00 Uhr\n2. Gruppe: 10:30 – 12:00 Uhr\n3. Gruppe: 11:30 – 12:30 Uhr \nKosten: 30\,00 € mtl. für Vereinsmitglieder
URL:https://pas-solingen.de/event/reitgruppe-3/
LOCATION:Jugendreitstall\, Hübben 25\, Solingen\, 42655\, Deutschland
CATEGORIES:Angebote für Kinder und Jugendliche
END:VEVENT
BEGIN:VEVENT
DTSTART;TZID=Europe/Berlin:20240225T110000
DTEND;TZID=Europe/Berlin:20240225T150000
DTSTAMP:20260422T093144
CREATED:20240426T195728Z
LAST-MODIFIED:20250112T211211Z
UID:1767-1708858800-1708873200@pas-solingen.de
SUMMARY:PAS Bogenkinder
DESCRIPTION:für Kinder (ab 10 Jahre)\, Jugendliche und Erwachsene \nBis 31.03. Indoor\, ab 01.04. Outdoor \nKosten: 10\,00 € mtl. für Mitglieder
URL:https://pas-solingen.de/event/pas-bogenkinder-8/
CATEGORIES:Angebote für die ganze Familie
END:VEVENT
BEGIN:VEVENT
DTSTART;TZID=Europe/Berlin:20240226T090000
DTEND;TZID=Europe/Berlin:20240226T120000
DTSTAMP:20260422T093144
CREATED:20240426T191659Z
LAST-MODIFIED:20250112T211211Z
UID:1618-1708938000-1708948800@pas-solingen.de
SUMMARY:Frühstückstreffen
DESCRIPTION:Themenfrühstück „Trauma“ \nKosten: 6\,50 € (Mitglieder: 5\,00 €) \nKinderbetreuung: 5\,00 € (pro Familie)
URL:https://pas-solingen.de/event/fruehstueckstreffen/
LOCATION:Ev. Gemeindehaus\, Neuenhoferstr. 47b\, Solingen\, 42657\, Deutschland
CATEGORIES:Angebote für die ganze Familie
END:VEVENT
END:VCALENDAR