BEGIN:VCALENDAR
VERSION:2.0
PRODID:-//Pflege- und Adoptivelterninitiative Solingen e.V. - ECPv6.15.20//NONSGML v1.0//EN
CALSCALE:GREGORIAN
METHOD:PUBLISH
X-ORIGINAL-URL:https://pas-solingen.de
X-WR-CALDESC:Veranstaltungen für Pflege- und Adoptivelterninitiative Solingen e.V.
REFRESH-INTERVAL;VALUE=DURATION:PT1H
X-Robots-Tag:noindex
X-PUBLISHED-TTL:PT1H
BEGIN:VTIMEZONE
TZID:Europe/Berlin
BEGIN:DAYLIGHT
TZOFFSETFROM:+0100
TZOFFSETTO:+0200
TZNAME:CEST
DTSTART:20230326T010000
END:DAYLIGHT
BEGIN:STANDARD
TZOFFSETFROM:+0200
TZOFFSETTO:+0100
TZNAME:CET
DTSTART:20231029T010000
END:STANDARD
BEGIN:DAYLIGHT
TZOFFSETFROM:+0100
TZOFFSETTO:+0200
TZNAME:CEST
DTSTART:20240331T010000
END:DAYLIGHT
BEGIN:STANDARD
TZOFFSETFROM:+0200
TZOFFSETTO:+0100
TZNAME:CET
DTSTART:20241027T010000
END:STANDARD
BEGIN:DAYLIGHT
TZOFFSETFROM:+0100
TZOFFSETTO:+0200
TZNAME:CEST
DTSTART:20250330T010000
END:DAYLIGHT
BEGIN:STANDARD
TZOFFSETFROM:+0200
TZOFFSETTO:+0100
TZNAME:CET
DTSTART:20251026T010000
END:STANDARD
END:VTIMEZONE
BEGIN:VEVENT
DTSTART;TZID=Europe/Berlin:20240302T093000
DTEND;TZID=Europe/Berlin:20240302T123000
DTSTAMP:20260422T074211
CREATED:20240426T194755Z
LAST-MODIFIED:20240426T194755Z
UID:1700-1709371800-1709382600@pas-solingen.de
SUMMARY:Reitgruppe
DESCRIPTION:für Kinder ab 4 Jahren \n1. Gruppe: 09:30 – 11:00 Uhr\n2. Gruppe: 10:30 – 12:00 Uhr\n3. Gruppe: 11:30 – 12:30 Uhr \nKosten: 30\,00 € mtl. für Vereinsmitglieder
URL:https://pas-solingen.de/event/reitgruppe-4/
LOCATION:Jugendreitstall\, Hübben 25\, Solingen\, 42655\, Deutschland
CATEGORIES:Angebote für Kinder und Jugendliche
END:VEVENT
BEGIN:VEVENT
DTSTART;TZID=Europe/Berlin:20240302T100000
DTEND;TZID=Europe/Berlin:20240302T170000
DTSTAMP:20260422T074211
CREATED:20240426T192003Z
LAST-MODIFIED:20240426T192003Z
UID:1622-1709373600-1709398800@pas-solingen.de
SUMMARY:Fachtag
DESCRIPTION:Fachtag mit Kinderprogramm \nThema: Zwischen Verstehen\, Mitgefühl und Hilflosigkeit \nKosten: 30\,00 € (Mitglieder: 20\,00 €) \nKinderbetreuung: 5\,00 € pro Familie
URL:https://pas-solingen.de/event/fachtag/
LOCATION:Nümmen 18\, Nümmen 18\, Solingen\, 42653
CATEGORIES:Angebote für Erwachsene
END:VEVENT
BEGIN:VEVENT
DTSTART;TZID=Europe/Berlin:20240303T110000
DTEND;TZID=Europe/Berlin:20240303T150000
DTSTAMP:20260422T074211
CREATED:20240426T195747Z
LAST-MODIFIED:20250112T211211Z
UID:1770-1709463600-1709478000@pas-solingen.de
SUMMARY:PAS Bogenkinder
DESCRIPTION:für Kinder (ab 10 Jahre)\, Jugendliche und Erwachsene \nBis 31.03. Indoor\, ab 01.04. Outdoor \nKosten: 10\,00 € mtl. für Mitglieder
URL:https://pas-solingen.de/event/pas-bogenkinder-9/
CATEGORIES:Angebote für die ganze Familie
END:VEVENT
BEGIN:VEVENT
DTSTART;TZID=Europe/Berlin:20240309T093000
DTEND;TZID=Europe/Berlin:20240309T123000
DTSTAMP:20260422T074211
CREATED:20240426T194811Z
LAST-MODIFIED:20240426T194811Z
UID:1703-1709976600-1709987400@pas-solingen.de
SUMMARY:Reitgruppe
DESCRIPTION:für Kinder ab 4 Jahren \n1. Gruppe: 09:30 – 11:00 Uhr\n2. Gruppe: 10:30 – 12:00 Uhr\n3. Gruppe: 11:30 – 12:30 Uhr \nKosten: 30\,00 € mtl. für Vereinsmitglieder
URL:https://pas-solingen.de/event/reitgruppe-5/
LOCATION:Jugendreitstall\, Hübben 25\, Solingen\, 42655\, Deutschland
CATEGORIES:Angebote für Kinder und Jugendliche
END:VEVENT
BEGIN:VEVENT
DTSTART;TZID=Europe/Berlin:20240310T110000
DTEND;TZID=Europe/Berlin:20240310T150000
DTSTAMP:20260422T074211
CREATED:20240426T195804Z
LAST-MODIFIED:20250112T211211Z
UID:1773-1710068400-1710082800@pas-solingen.de
SUMMARY:PAS Bogenkinder
DESCRIPTION:für Kinder (ab 10 Jahre)\, Jugendliche und Erwachsene \nBis 31.03. Indoor\, ab 01.04. Outdoor \nKosten: 10\,00 € mtl. für Mitglieder
URL:https://pas-solingen.de/event/pas-bogenkinder-10/
CATEGORIES:Angebote für die ganze Familie
END:VEVENT
BEGIN:VEVENT
DTSTART;TZID=Europe/Berlin:20240311T093000
DTEND;TZID=Europe/Berlin:20240311T113000
DTSTAMP:20260422T074212
CREATED:20240426T192223Z
LAST-MODIFIED:20240426T192425Z
UID:1626-1710149400-1710156600@pas-solingen.de
SUMMARY:Systemische Beratung
DESCRIPTION:verbindliches Gruppengespräch zu herausfordernden Themen in Pflege- und Adoptivfamilien \nKosten: 50\,00 € im Halbjahr
URL:https://pas-solingen.de/event/systemische-beratung-3/
LOCATION:Nümmen 18\, Nümmen 18\, Solingen\, 42653
CATEGORIES:Angebote für Erwachsene
END:VEVENT
BEGIN:VEVENT
DTSTART;TZID=Europe/Berlin:20240315T193000
DTEND;TZID=Europe/Berlin:20240315T193000
DTSTAMP:20260422T074212
CREATED:20250112T211439Z
LAST-MODIFIED:20250112T211439Z
UID:2394-1710531000-1710531000@pas-solingen.de
SUMMARY:Mitgliederversammlung
DESCRIPTION:
URL:https://pas-solingen.de/event/mitgliederversammlung-2/
LOCATION:Gasthof Löhdorf\, Löhdorfer Str. 275\, Solingen\, 42699\, Deutschland
CATEGORIES:Angebote für Erwachsene
END:VEVENT
BEGIN:VEVENT
DTSTART;TZID=Europe/Berlin:20240316T093000
DTEND;TZID=Europe/Berlin:20240316T123000
DTSTAMP:20260422T074212
CREATED:20240426T194829Z
LAST-MODIFIED:20240426T194829Z
UID:1706-1710581400-1710592200@pas-solingen.de
SUMMARY:Reitgruppe
DESCRIPTION:für Kinder ab 4 Jahren \n1. Gruppe: 09:30 – 11:00 Uhr\n2. Gruppe: 10:30 – 12:00 Uhr\n3. Gruppe: 11:30 – 12:30 Uhr \nKosten: 30\,00 € mtl. für Vereinsmitglieder
URL:https://pas-solingen.de/event/reitgruppe-6/
LOCATION:Jugendreitstall\, Hübben 25\, Solingen\, 42655\, Deutschland
CATEGORIES:Angebote für Kinder und Jugendliche
END:VEVENT
BEGIN:VEVENT
DTSTART;TZID=Europe/Berlin:20240317T110000
DTEND;TZID=Europe/Berlin:20240317T150000
DTSTAMP:20260422T074212
CREATED:20240426T195825Z
LAST-MODIFIED:20250112T211211Z
UID:1776-1710673200-1710687600@pas-solingen.de
SUMMARY:PAS Bogenkinder
DESCRIPTION:für Kinder (ab 10 Jahre)\, Jugendliche und Erwachsene \nBis 31.03. Indoor\, ab 01.04. Outdoor \nKosten: 10\,00 € mtl. für Mitglieder
URL:https://pas-solingen.de/event/pas-bogenkinder-11/
CATEGORIES:Angebote für die ganze Familie
END:VEVENT
BEGIN:VEVENT
DTSTART;TZID=Europe/Berlin:20240323T093000
DTEND;TZID=Europe/Berlin:20240323T123000
DTSTAMP:20260422T074212
CREATED:20240426T194852Z
LAST-MODIFIED:20240426T194852Z
UID:1711-1711186200-1711197000@pas-solingen.de
SUMMARY:Reitgruppe
DESCRIPTION:für Kinder ab 4 Jahren \n1. Gruppe: 09:30 – 11:00 Uhr\n2. Gruppe: 10:30 – 12:00 Uhr\n3. Gruppe: 11:30 – 12:30 Uhr \nKosten: 30\,00 € mtl. für Vereinsmitglieder
URL:https://pas-solingen.de/event/reitgruppe-7/
LOCATION:Jugendreitstall\, Hübben 25\, Solingen\, 42655\, Deutschland
CATEGORIES:Angebote für Kinder und Jugendliche
END:VEVENT
BEGIN:VEVENT
DTSTART;TZID=Europe/Berlin:20240324T110000
DTEND;TZID=Europe/Berlin:20240324T150000
DTSTAMP:20260422T074212
CREATED:20240426T195844Z
LAST-MODIFIED:20250112T211211Z
UID:1779-1711278000-1711292400@pas-solingen.de
SUMMARY:PAS Bogenkinder
DESCRIPTION:für Kinder (ab 10 Jahre)\, Jugendliche und Erwachsene \nBis 31.03. Indoor\, ab 01.04. Outdoor \nKosten: 10\,00 € mtl. für Mitglieder
URL:https://pas-solingen.de/event/pas-bogenkinder-12/
CATEGORIES:Angebote für die ganze Familie
END:VEVENT
END:VCALENDAR