BEGIN:VCALENDAR
VERSION:2.0
PRODID:-//Pflege- und Adoptivelterninitiative Solingen e.V. - ECPv6.15.20//NONSGML v1.0//EN
CALSCALE:GREGORIAN
METHOD:PUBLISH
X-WR-CALNAME:Pflege- und Adoptivelterninitiative Solingen e.V.
X-ORIGINAL-URL:https://pas-solingen.de
X-WR-CALDESC:Veranstaltungen für Pflege- und Adoptivelterninitiative Solingen e.V.
REFRESH-INTERVAL;VALUE=DURATION:PT1H
X-Robots-Tag:noindex
X-PUBLISHED-TTL:PT1H
BEGIN:VTIMEZONE
TZID:Europe/Berlin
BEGIN:DAYLIGHT
TZOFFSETFROM:+0100
TZOFFSETTO:+0200
TZNAME:CEST
DTSTART:20230326T010000
END:DAYLIGHT
BEGIN:STANDARD
TZOFFSETFROM:+0200
TZOFFSETTO:+0100
TZNAME:CET
DTSTART:20231029T010000
END:STANDARD
BEGIN:DAYLIGHT
TZOFFSETFROM:+0100
TZOFFSETTO:+0200
TZNAME:CEST
DTSTART:20240331T010000
END:DAYLIGHT
BEGIN:STANDARD
TZOFFSETFROM:+0200
TZOFFSETTO:+0100
TZNAME:CET
DTSTART:20241027T010000
END:STANDARD
BEGIN:DAYLIGHT
TZOFFSETFROM:+0100
TZOFFSETTO:+0200
TZNAME:CEST
DTSTART:20250330T010000
END:DAYLIGHT
BEGIN:STANDARD
TZOFFSETFROM:+0200
TZOFFSETTO:+0100
TZNAME:CET
DTSTART:20251026T010000
END:STANDARD
END:VTIMEZONE
BEGIN:VEVENT
DTSTART;TZID=Europe/Berlin:20240413T093000
DTEND;TZID=Europe/Berlin:20240413T123000
DTSTAMP:20260422T060330
CREATED:20240426T194917Z
LAST-MODIFIED:20240426T194917Z
UID:1714-1713000600-1713011400@pas-solingen.de
SUMMARY:Reitgruppe
DESCRIPTION:für Kinder ab 4 Jahren \n1. Gruppe: 09:30 – 11:00 Uhr\n2. Gruppe: 10:30 – 12:00 Uhr\n3. Gruppe: 11:30 – 12:30 Uhr \nKosten: 30\,00 € mtl. für Vereinsmitglieder
URL:https://pas-solingen.de/event/reitgruppe-8/
LOCATION:Jugendreitstall\, Hübben 25\, Solingen\, 42655\, Deutschland
CATEGORIES:Angebote für Kinder und Jugendliche
END:VEVENT
BEGIN:VEVENT
DTSTART;TZID=Europe/Berlin:20240414T110000
DTEND;TZID=Europe/Berlin:20240414T150000
DTSTAMP:20260422T060330
CREATED:20240426T195909Z
LAST-MODIFIED:20250112T211157Z
UID:1782-1713092400-1713106800@pas-solingen.de
SUMMARY:PAS Bogenkinder
DESCRIPTION:für Kinder (ab 10 Jahre)\, Jugendliche und Erwachsene \nBis 31.03. Indoor\, ab 01.04. Outdoor \nKosten: 10\,00 € mtl. für Mitglieder
URL:https://pas-solingen.de/event/pas-bogenkinder-13/
CATEGORIES:Angebote für die ganze Familie
END:VEVENT
BEGIN:VEVENT
DTSTART;TZID=Europe/Berlin:20240415T093000
DTEND;TZID=Europe/Berlin:20240415T113000
DTSTAMP:20260422T060330
CREATED:20240426T192804Z
LAST-MODIFIED:20240426T192839Z
UID:1635-1713173400-1713180600@pas-solingen.de
SUMMARY:Systemische Beratung
DESCRIPTION:Systemische Beratung (verbindliches Gruppengespräch zu herausfordernden Themen in Pflege – und Adoptivfamilien) \nKosten: 50\,00 € im Halbjahr
URL:https://pas-solingen.de/event/systemische-beratung-4/
LOCATION:Nümmen 18\, Nümmen 18\, Solingen\, 42653
CATEGORIES:Angebote für Erwachsene
END:VEVENT
BEGIN:VEVENT
DTSTART;TZID=Europe/Berlin:20240420T093000
DTEND;TZID=Europe/Berlin:20240420T123000
DTSTAMP:20260422T060330
CREATED:20240426T194933Z
LAST-MODIFIED:20240426T194933Z
UID:1717-1713605400-1713616200@pas-solingen.de
SUMMARY:Reitgruppe
DESCRIPTION:für Kinder ab 4 Jahren \n1. Gruppe: 09:30 – 11:00 Uhr\n2. Gruppe: 10:30 – 12:00 Uhr\n3. Gruppe: 11:30 – 12:30 Uhr \nKosten: 30\,00 € mtl. für Vereinsmitglieder
URL:https://pas-solingen.de/event/reitgruppe-9/
LOCATION:Jugendreitstall\, Hübben 25\, Solingen\, 42655\, Deutschland
CATEGORIES:Angebote für Kinder und Jugendliche
END:VEVENT
BEGIN:VEVENT
DTSTART;TZID=Europe/Berlin:20240421T110000
DTEND;TZID=Europe/Berlin:20240421T150000
DTSTAMP:20260422T060330
CREATED:20240426T195928Z
LAST-MODIFIED:20250112T211157Z
UID:1785-1713697200-1713711600@pas-solingen.de
SUMMARY:PAS Bogenkinder
DESCRIPTION:für Kinder (ab 10 Jahre)\, Jugendliche und Erwachsene \nBis 31.03. Indoor\, ab 01.04. Outdoor \nKosten: 10\,00 € mtl. für Mitglieder
URL:https://pas-solingen.de/event/pas-bogenkinder-14/
CATEGORIES:Angebote für die ganze Familie
END:VEVENT
BEGIN:VEVENT
DTSTART;TZID=Europe/Berlin:20240422T093000
DTEND;TZID=Europe/Berlin:20240422T113000
DTSTAMP:20260422T060330
CREATED:20240426T193041Z
LAST-MODIFIED:20250112T211157Z
UID:1646-1713778200-1713785400@pas-solingen.de
SUMMARY:Frühstückstreffen
DESCRIPTION:Kosten: 6\,50 € (Mitglieder: 5\,00 €) \nKinderbetreuung: 5\,00 € (pro Familie)
URL:https://pas-solingen.de/event/fruehstueckstreffen-2/
LOCATION:Ev. Gemeindehaus\, Neuenhoferstr. 47b\, Solingen\, 42657\, Deutschland
CATEGORIES:Angebote für die ganze Familie
END:VEVENT
BEGIN:VEVENT
DTSTART;TZID=Europe/Berlin:20240427T093000
DTEND;TZID=Europe/Berlin:20240427T123000
DTSTAMP:20260422T060330
CREATED:20240426T194358Z
LAST-MODIFIED:20240426T194527Z
UID:1671-1714210200-1714221000@pas-solingen.de
SUMMARY:Reitgruppe
DESCRIPTION:für Kinder ab 4 Jahren \n1. Gruppe: 09:30 – 11:00 Uhr\n2. Gruppe: 10:30 – 12:00 Uhr\n3. Gruppe: 11:30 – 12:30 Uhr \nKosten: 30\,00 € mtl. für Vereinsmitglieder
URL:https://pas-solingen.de/event/reitgruppe/
LOCATION:Jugendreitstall\, Hübben 25\, Solingen\, 42655\, Deutschland
CATEGORIES:Angebote für Kinder und Jugendliche
END:VEVENT
BEGIN:VEVENT
DTSTART;TZID=Europe/Berlin:20240428T110000
DTEND;TZID=Europe/Berlin:20240428T150000
DTSTAMP:20260422T060330
CREATED:20240426T195948Z
LAST-MODIFIED:20250112T211157Z
UID:1788-1714302000-1714316400@pas-solingen.de
SUMMARY:PAS Bogenkinder
DESCRIPTION:für Kinder (ab 10 Jahre)\, Jugendliche und Erwachsene \nBis 31.03. Indoor\, ab 01.04. Outdoor \nKosten: 10\,00 € mtl. für Mitglieder
URL:https://pas-solingen.de/event/pas-bogenkinder-15/
CATEGORIES:Angebote für die ganze Familie
END:VEVENT
END:VCALENDAR