BEGIN:VCALENDAR
VERSION:2.0
PRODID:-//Pflege- und Adoptivelterninitiative Solingen e.V. - ECPv6.15.20//NONSGML v1.0//EN
CALSCALE:GREGORIAN
METHOD:PUBLISH
X-WR-CALNAME:Pflege- und Adoptivelterninitiative Solingen e.V.
X-ORIGINAL-URL:https://pas-solingen.de
X-WR-CALDESC:Veranstaltungen für Pflege- und Adoptivelterninitiative Solingen e.V.
REFRESH-INTERVAL;VALUE=DURATION:PT1H
X-Robots-Tag:noindex
X-PUBLISHED-TTL:PT1H
BEGIN:VTIMEZONE
TZID:Europe/Berlin
BEGIN:DAYLIGHT
TZOFFSETFROM:+0100
TZOFFSETTO:+0200
TZNAME:CEST
DTSTART:20230326T010000
END:DAYLIGHT
BEGIN:STANDARD
TZOFFSETFROM:+0200
TZOFFSETTO:+0100
TZNAME:CET
DTSTART:20231029T010000
END:STANDARD
BEGIN:DAYLIGHT
TZOFFSETFROM:+0100
TZOFFSETTO:+0200
TZNAME:CEST
DTSTART:20240331T010000
END:DAYLIGHT
BEGIN:STANDARD
TZOFFSETFROM:+0200
TZOFFSETTO:+0100
TZNAME:CET
DTSTART:20241027T010000
END:STANDARD
BEGIN:DAYLIGHT
TZOFFSETFROM:+0100
TZOFFSETTO:+0200
TZNAME:CEST
DTSTART:20250330T010000
END:DAYLIGHT
BEGIN:STANDARD
TZOFFSETFROM:+0200
TZOFFSETTO:+0100
TZNAME:CET
DTSTART:20251026T010000
END:STANDARD
END:VTIMEZONE
BEGIN:VEVENT
DTSTART;TZID=Europe/Berlin:20240504T093000
DTEND;TZID=Europe/Berlin:20240504T123000
DTSTAMP:20260422T043944
CREATED:20240426T194952Z
LAST-MODIFIED:20240426T194952Z
UID:1720-1714815000-1714825800@pas-solingen.de
SUMMARY:Reitgruppe
DESCRIPTION:für Kinder ab 4 Jahren \n1. Gruppe: 09:30 – 11:00 Uhr\n2. Gruppe: 10:30 – 12:00 Uhr\n3. Gruppe: 11:30 – 12:30 Uhr \nKosten: 30\,00 € mtl. für Vereinsmitglieder
URL:https://pas-solingen.de/event/reitgruppe-10/
LOCATION:Jugendreitstall\, Hübben 25\, Solingen\, 42655\, Deutschland
CATEGORIES:Angebote für Kinder und Jugendliche
END:VEVENT
BEGIN:VEVENT
DTSTART;TZID=Europe/Berlin:20240505T110000
DTEND;TZID=Europe/Berlin:20240505T150000
DTSTAMP:20260422T043944
CREATED:20240426T200015Z
LAST-MODIFIED:20250112T211157Z
UID:1793-1714906800-1714921200@pas-solingen.de
SUMMARY:PAS Bogenkinder
DESCRIPTION:für Kinder (ab 10 Jahre)\, Jugendliche und Erwachsene \nBis 31.03. Indoor\, ab 01.04. Outdoor \nKosten: 10\,00 € mtl. für Mitglieder
URL:https://pas-solingen.de/event/pas-bogenkinder-16/
CATEGORIES:Angebote für die ganze Familie
END:VEVENT
BEGIN:VEVENT
DTSTART;TZID=Europe/Berlin:20240511T093000
DTEND;TZID=Europe/Berlin:20240511T123000
DTSTAMP:20260422T043944
CREATED:20240426T195009Z
LAST-MODIFIED:20240426T195009Z
UID:1722-1715419800-1715430600@pas-solingen.de
SUMMARY:Reitgruppe
DESCRIPTION:für Kinder ab 4 Jahren \n1. Gruppe: 09:30 – 11:00 Uhr\n2. Gruppe: 10:30 – 12:00 Uhr\n3. Gruppe: 11:30 – 12:30 Uhr \nKosten: 30\,00 € mtl. für Vereinsmitglieder
URL:https://pas-solingen.de/event/reitgruppe-10-2/
LOCATION:Jugendreitstall\, Hübben 25\, Solingen\, 42655\, Deutschland
CATEGORIES:Angebote für Kinder und Jugendliche
END:VEVENT
BEGIN:VEVENT
DTSTART;TZID=Europe/Berlin:20240512T110000
DTEND;TZID=Europe/Berlin:20240512T150000
DTSTAMP:20260422T043944
CREATED:20240426T200032Z
LAST-MODIFIED:20250112T211157Z
UID:1796-1715511600-1715526000@pas-solingen.de
SUMMARY:PAS Bogenkinder
DESCRIPTION:für Kinder (ab 10 Jahre)\, Jugendliche und Erwachsene \nBis 31.03. Indoor\, ab 01.04. Outdoor \nKosten: 10\,00 € mtl. für Mitglieder
URL:https://pas-solingen.de/event/pas-bogenkinder-16-2/
CATEGORIES:Angebote für die ganze Familie
END:VEVENT
BEGIN:VEVENT
DTSTART;TZID=Europe/Berlin:20240513T093000
DTEND;TZID=Europe/Berlin:20240513T113000
DTSTAMP:20260422T043944
CREATED:20240426T193143Z
LAST-MODIFIED:20240426T193149Z
UID:1651-1715592600-1715599800@pas-solingen.de
SUMMARY:Systemische Beratung
DESCRIPTION:Systemische Beratung (verbindliches Gruppengespräch zu herausfordernden Themen in Pflege – und Adoptivfamilien) \nKosten: 50\,00 € im Halbjahr
URL:https://pas-solingen.de/event/systemische-beratung-4-2/
LOCATION:Nümmen 18\, Nümmen 18\, Solingen\, 42653
CATEGORIES:Angebote für Erwachsene
END:VEVENT
BEGIN:VEVENT
DTSTART;TZID=Europe/Berlin:20240518T093000
DTEND;TZID=Europe/Berlin:20240518T123000
DTSTAMP:20260422T043944
CREATED:20240426T195023Z
LAST-MODIFIED:20240426T195023Z
UID:1725-1716024600-1716035400@pas-solingen.de
SUMMARY:Reitgruppe
DESCRIPTION:für Kinder ab 4 Jahren \n1. Gruppe: 09:30 – 11:00 Uhr\n2. Gruppe: 10:30 – 12:00 Uhr\n3. Gruppe: 11:30 – 12:30 Uhr \nKosten: 30\,00 € mtl. für Vereinsmitglieder
URL:https://pas-solingen.de/event/reitgruppe-10-2-2/
LOCATION:Jugendreitstall\, Hübben 25\, Solingen\, 42655\, Deutschland
CATEGORIES:Angebote für Kinder und Jugendliche
END:VEVENT
BEGIN:VEVENT
DTSTART;TZID=Europe/Berlin:20240519T110000
DTEND;TZID=Europe/Berlin:20240519T150000
DTSTAMP:20260422T043944
CREATED:20240426T200049Z
LAST-MODIFIED:20250112T211157Z
UID:1799-1716116400-1716130800@pas-solingen.de
SUMMARY:PAS Bogenkinder
DESCRIPTION:für Kinder (ab 10 Jahre)\, Jugendliche und Erwachsene \nBis 31.03. Indoor\, ab 01.04. Outdoor \nKosten: 10\,00 € mtl. für Mitglieder
URL:https://pas-solingen.de/event/pas-bogenkinder-16-2-2/
CATEGORIES:Angebote für die ganze Familie
END:VEVENT
BEGIN:VEVENT
DTSTART;TZID=Europe/Berlin:20240525T093000
DTEND;TZID=Europe/Berlin:20240525T123000
DTSTAMP:20260422T043944
CREATED:20240426T195037Z
LAST-MODIFIED:20240426T195037Z
UID:1728-1716629400-1716640200@pas-solingen.de
SUMMARY:Reitgruppe
DESCRIPTION:für Kinder ab 4 Jahren \n1. Gruppe: 09:30 – 11:00 Uhr\n2. Gruppe: 10:30 – 12:00 Uhr\n3. Gruppe: 11:30 – 12:30 Uhr \nKosten: 30\,00 € mtl. für Vereinsmitglieder
URL:https://pas-solingen.de/event/reitgruppe-10-2-2-2/
LOCATION:Jugendreitstall\, Hübben 25\, Solingen\, 42655\, Deutschland
CATEGORIES:Angebote für Kinder und Jugendliche
END:VEVENT
BEGIN:VEVENT
DTSTART;TZID=Europe/Berlin:20240526T110000
DTEND;TZID=Europe/Berlin:20240526T150000
DTSTAMP:20260422T043944
CREATED:20240426T200106Z
LAST-MODIFIED:20250112T211157Z
UID:1802-1716721200-1716735600@pas-solingen.de
SUMMARY:PAS Bogenkinder
DESCRIPTION:für Kinder (ab 10 Jahre)\, Jugendliche und Erwachsene \nBis 31.03. Indoor\, ab 01.04. Outdoor \nKosten: 10\,00 € mtl. für Mitglieder
URL:https://pas-solingen.de/event/pas-bogenkinder-16-2-2-2/
CATEGORIES:Angebote für die ganze Familie
END:VEVENT
BEGIN:VEVENT
DTSTART;VALUE=DATE:20240530
DTEND;VALUE=DATE:20240604
DTSTAMP:20260422T043944
CREATED:20240426T193525Z
LAST-MODIFIED:20250112T211157Z
UID:1655-1717052400-1717397999@pas-solingen.de
SUMMARY:Familienwochenende - Reichswaldhof Goch
DESCRIPTION:Endlich ist es wieder soweit…\nFür unsere geplante Ferienfreizeit 2024 in Goch\, vom 30.05.- 02.06.2024 (3 Nächte)\, die neben täglichem Reiten (wenn gewünscht)\, auch mit einer kraftschöpfenden Auszeit für uns Eltern verbunden ist\, bitten wir um Anmeldungen bis zum 19.04.2024. Bei Interesse ist eine Voranmeldung auch für Nicht-Mitglieder über vorstand@pas-solingen.de möglich.\nAnmeldung herunterladen \nKosten: \n\nErwachsene: 150\,00 € (Mitglieder: 70\,00 €)\nKinder: 25\,00 €
URL:https://pas-solingen.de/event/familienwochenende-reichswaldhof-goch/
CATEGORIES:Angebote für die ganze Familie
END:VEVENT
END:VCALENDAR