BEGIN:VCALENDAR
VERSION:2.0
PRODID:-//Pflege- und Adoptivelterninitiative Solingen e.V. - ECPv6.15.20//NONSGML v1.0//EN
CALSCALE:GREGORIAN
METHOD:PUBLISH
X-ORIGINAL-URL:https://pas-solingen.de
X-WR-CALDESC:Veranstaltungen für Pflege- und Adoptivelterninitiative Solingen e.V.
REFRESH-INTERVAL;VALUE=DURATION:PT1H
X-Robots-Tag:noindex
X-PUBLISHED-TTL:PT1H
BEGIN:VTIMEZONE
TZID:Europe/Berlin
BEGIN:DAYLIGHT
TZOFFSETFROM:+0100
TZOFFSETTO:+0200
TZNAME:CEST
DTSTART:20230326T010000
END:DAYLIGHT
BEGIN:STANDARD
TZOFFSETFROM:+0200
TZOFFSETTO:+0100
TZNAME:CET
DTSTART:20231029T010000
END:STANDARD
BEGIN:DAYLIGHT
TZOFFSETFROM:+0100
TZOFFSETTO:+0200
TZNAME:CEST
DTSTART:20240331T010000
END:DAYLIGHT
BEGIN:STANDARD
TZOFFSETFROM:+0200
TZOFFSETTO:+0100
TZNAME:CET
DTSTART:20241027T010000
END:STANDARD
BEGIN:DAYLIGHT
TZOFFSETFROM:+0100
TZOFFSETTO:+0200
TZNAME:CEST
DTSTART:20250330T010000
END:DAYLIGHT
BEGIN:STANDARD
TZOFFSETFROM:+0200
TZOFFSETTO:+0100
TZNAME:CET
DTSTART:20251026T010000
END:STANDARD
END:VTIMEZONE
BEGIN:VEVENT
DTSTART;TZID=Europe/Berlin:20240823T170000
DTEND;TZID=Europe/Berlin:20240823T190000
DTSTAMP:20260422T000927
CREATED:20240526T182852Z
LAST-MODIFIED:20250112T211157Z
UID:1955-1724432400-1724439600@pas-solingen.de
SUMMARY:PAS Bogenkinder
DESCRIPTION:für Kinder (ab 10 Jahre)\, Jugendliche und Erwachsene \nMai – September freitags 17:00 – 19:00 Uhr Outdoor\,\nJosefstal\, Solingen \nKosten: 10\,00 € mtl. für Mitglieder
URL:https://pas-solingen.de/event/pas-bogenkinder-30-2-2/
CATEGORIES:Angebote für die ganze Familie
END:VEVENT
BEGIN:VEVENT
DTSTART;TZID=Europe/Berlin:20240824T093000
DTEND;TZID=Europe/Berlin:20240824T123000
DTSTAMP:20260422T000927
CREATED:20240526T183617Z
LAST-MODIFIED:20240526T183617Z
UID:2010-1724491800-1724502600@pas-solingen.de
SUMMARY:Reitgruppe
DESCRIPTION:für Kinder ab 4 Jahren \n1. Gruppe: 09:30 – 11:00 Uhr\n2. Gruppe: 10:30 – 12:00 Uhr\n3. Gruppe: 11:30 – 12:30 Uhr \nKosten: 30\,00 € mtl. für Vereinsmitglieder (Geschwisterrabatt)
URL:https://pas-solingen.de/event/reitgruppe-11-2/
LOCATION:Jugendreitstall\, Hübben 25\, Solingen\, 42655\, Deutschland
CATEGORIES:Angebote für Kinder und Jugendliche
END:VEVENT
BEGIN:VEVENT
DTSTART;TZID=Europe/Berlin:20240825T140000
DTEND;TZID=Europe/Berlin:20240825T170000
DTSTAMP:20260422T000927
CREATED:20240526T184314Z
LAST-MODIFIED:20250112T211157Z
UID:2058-1724594400-1724605200@pas-solingen.de
SUMMARY:Grillfest
DESCRIPTION:
URL:https://pas-solingen.de/event/grillfest/
LOCATION:Kleingartenverein Stöckerberg\, Untere Werner Str. 65a\, Solingen\, NRW\, 42651\, Deutschland
CATEGORIES:Angebote für die ganze Familie
END:VEVENT
BEGIN:VEVENT
DTSTART;TZID=Europe/Berlin:20240826T093000
DTEND;TZID=Europe/Berlin:20240826T113000
DTSTAMP:20260422T000927
CREATED:20240526T184410Z
LAST-MODIFIED:20240526T184421Z
UID:2062-1724664600-1724671800@pas-solingen.de
SUMMARY:Systemische Beratung
DESCRIPTION:Systemische Beratung (verbindliches Gruppengespräch zu herausfordernden Themen in Pflege – und Adoptivfamilien) \nKosten: 50\,00 € im Halbjahr
URL:https://pas-solingen.de/event/systemische-beratung-5/
LOCATION:Nümmen 18\, Nümmen 18\, Solingen\, 42653
CATEGORIES:Angebote für Erwachsene
END:VEVENT
BEGIN:VEVENT
DTSTART;TZID=Europe/Berlin:20240830T170000
DTEND;TZID=Europe/Berlin:20240830T190000
DTSTAMP:20260422T000927
CREATED:20240526T182914Z
LAST-MODIFIED:20250112T211157Z
UID:1959-1725037200-1725044400@pas-solingen.de
SUMMARY:PAS Bogenkinder
DESCRIPTION:für Kinder (ab 10 Jahre)\, Jugendliche und Erwachsene \nMai – September freitags 17:00 – 19:00 Uhr Outdoor\,\nJosefstal\, Solingen \nKosten: 10\,00 € mtl. für Mitglieder
URL:https://pas-solingen.de/event/pas-bogenkinder-30-2-2-2/
CATEGORIES:Angebote für die ganze Familie
END:VEVENT
BEGIN:VEVENT
DTSTART;TZID=Europe/Berlin:20240831T093000
DTEND;TZID=Europe/Berlin:20240831T123000
DTSTAMP:20260422T000927
CREATED:20240526T183634Z
LAST-MODIFIED:20240526T183634Z
UID:2013-1725096600-1725107400@pas-solingen.de
SUMMARY:Reitgruppe
DESCRIPTION:für Kinder ab 4 Jahren \n1. Gruppe: 09:30 – 11:00 Uhr\n2. Gruppe: 10:30 – 12:00 Uhr\n3. Gruppe: 11:30 – 12:30 Uhr \nKosten: 30\,00 € mtl. für Vereinsmitglieder (Geschwisterrabatt)
URL:https://pas-solingen.de/event/reitgruppe-11-2-2/
LOCATION:Jugendreitstall\, Hübben 25\, Solingen\, 42655\, Deutschland
CATEGORIES:Angebote für Kinder und Jugendliche
END:VEVENT
END:VCALENDAR