BEGIN:VCALENDAR
VERSION:2.0
PRODID:-//Pflege- und Adoptivelterninitiative Solingen e.V. - ECPv6.15.20//NONSGML v1.0//EN
CALSCALE:GREGORIAN
METHOD:PUBLISH
X-WR-CALNAME:Pflege- und Adoptivelterninitiative Solingen e.V.
X-ORIGINAL-URL:https://pas-solingen.de
X-WR-CALDESC:Veranstaltungen für Pflege- und Adoptivelterninitiative Solingen e.V.
REFRESH-INTERVAL;VALUE=DURATION:PT1H
X-Robots-Tag:noindex
X-PUBLISHED-TTL:PT1H
BEGIN:VTIMEZONE
TZID:Europe/Berlin
BEGIN:DAYLIGHT
TZOFFSETFROM:+0100
TZOFFSETTO:+0200
TZNAME:CEST
DTSTART:20230326T010000
END:DAYLIGHT
BEGIN:STANDARD
TZOFFSETFROM:+0200
TZOFFSETTO:+0100
TZNAME:CET
DTSTART:20231029T010000
END:STANDARD
BEGIN:DAYLIGHT
TZOFFSETFROM:+0100
TZOFFSETTO:+0200
TZNAME:CEST
DTSTART:20240331T010000
END:DAYLIGHT
BEGIN:STANDARD
TZOFFSETFROM:+0200
TZOFFSETTO:+0100
TZNAME:CET
DTSTART:20241027T010000
END:STANDARD
BEGIN:DAYLIGHT
TZOFFSETFROM:+0100
TZOFFSETTO:+0200
TZNAME:CEST
DTSTART:20250330T010000
END:DAYLIGHT
BEGIN:STANDARD
TZOFFSETFROM:+0200
TZOFFSETTO:+0100
TZNAME:CET
DTSTART:20251026T010000
END:STANDARD
END:VTIMEZONE
BEGIN:VEVENT
DTSTART;TZID=Europe/Berlin:20240906T170000
DTEND;TZID=Europe/Berlin:20240906T190000
DTSTAMP:20260421T223130
CREATED:20240526T182929Z
LAST-MODIFIED:20250112T211157Z
UID:1962-1725642000-1725649200@pas-solingen.de
SUMMARY:PAS Bogenkinder
DESCRIPTION:für Kinder (ab 10 Jahre)\, Jugendliche und Erwachsene \nMai – September freitags 17:00 – 19:00 Uhr Outdoor\,\nJosefstal\, Solingen \nKosten: 10\,00 € mtl. für Mitglieder
URL:https://pas-solingen.de/event/pas-bogenkinder-30-2-2-2-2/
CATEGORIES:Angebote für die ganze Familie
END:VEVENT
BEGIN:VEVENT
DTSTART;TZID=Europe/Berlin:20240907T093000
DTEND;TZID=Europe/Berlin:20240907T123000
DTSTAMP:20260421T223130
CREATED:20240526T183653Z
LAST-MODIFIED:20240526T183653Z
UID:2016-1725701400-1725712200@pas-solingen.de
SUMMARY:Reitgruppe
DESCRIPTION:für Kinder ab 4 Jahren \n1. Gruppe: 09:30 – 11:00 Uhr\n2. Gruppe: 10:30 – 12:00 Uhr\n3. Gruppe: 11:30 – 12:30 Uhr \nKosten: 30\,00 € mtl. für Vereinsmitglieder (Geschwisterrabatt)
URL:https://pas-solingen.de/event/reitgruppe-11-2-2-2/
LOCATION:Jugendreitstall\, Hübben 25\, Solingen\, 42655\, Deutschland
CATEGORIES:Angebote für Kinder und Jugendliche
END:VEVENT
BEGIN:VEVENT
DTSTART;TZID=Europe/Berlin:20240913T110000
DTEND;TZID=Europe/Berlin:20240913T150000
DTSTAMP:20260421T223130
CREATED:20240526T182949Z
LAST-MODIFIED:20250112T211124Z
UID:1965-1726225200-1726239600@pas-solingen.de
SUMMARY:PAS Bogenkinder
DESCRIPTION:für Kinder (ab 10 Jahre)\, Jugendliche und Erwachsene \nMai – September freitags 17:00 – 19:00 Uhr Outdoor\,\nJosefstal\, Solingen \nKosten: 10\,00 € mtl. für Mitglieder
URL:https://pas-solingen.de/event/pas-bogenkinder-30-2-2-2-2-2/
CATEGORIES:Angebote für die ganze Familie
END:VEVENT
BEGIN:VEVENT
DTSTART;TZID=Europe/Berlin:20240914T090000
DTEND;TZID=Europe/Berlin:20240914T130000
DTSTAMP:20260421T223130
CREATED:20240526T184756Z
LAST-MODIFIED:20250112T211124Z
UID:2078-1726304400-1726318800@pas-solingen.de
SUMMARY:Themenfrühstück
DESCRIPTION:Themenfrühstück mit Kinderbetreuung. „Pflegeelternrechte“ Rechtsanwältin Regina Scherf \nKosten: Nichtmitglieder p.P. 10\,00 €/Mitglieder p.P. 5\,00 €
URL:https://pas-solingen.de/event/themenfruehstueck/
LOCATION:Nümmen 18\, Nümmen 18\, Solingen\, 42653
CATEGORIES:Angebote für die ganze Familie
END:VEVENT
BEGIN:VEVENT
DTSTART;TZID=Europe/Berlin:20240914T093000
DTEND;TZID=Europe/Berlin:20240914T123000
DTSTAMP:20260421T223130
CREATED:20240526T183715Z
LAST-MODIFIED:20240526T183715Z
UID:2019-1726306200-1726317000@pas-solingen.de
SUMMARY:Reitgruppe
DESCRIPTION:für Kinder ab 4 Jahren \n1. Gruppe: 09:30 – 11:00 Uhr\n2. Gruppe: 10:30 – 12:00 Uhr\n3. Gruppe: 11:30 – 12:30 Uhr \nKosten: 30\,00 € mtl. für Vereinsmitglieder (Geschwisterrabatt)
URL:https://pas-solingen.de/event/reitgruppe-12/
LOCATION:Jugendreitstall\, Hübben 25\, Solingen\, 42655\, Deutschland
CATEGORIES:Angebote für Kinder und Jugendliche
END:VEVENT
BEGIN:VEVENT
DTSTART;TZID=Europe/Berlin:20240920T170000
DTEND;TZID=Europe/Berlin:20240920T190000
DTSTAMP:20260421T223130
CREATED:20240526T183024Z
LAST-MODIFIED:20250112T211124Z
UID:1968-1726851600-1726858800@pas-solingen.de
SUMMARY:PAS Bogenkinder
DESCRIPTION:für Kinder (ab 10 Jahre)\, Jugendliche und Erwachsene \nMai – September freitags 17:00 – 19:00 Uhr Outdoor\,\nJosefstal\, Solingen \nKosten: 10\,00 € mtl. für Mitglieder
URL:https://pas-solingen.de/event/pas-bogenkinder-31/
CATEGORIES:Angebote für die ganze Familie
END:VEVENT
BEGIN:VEVENT
DTSTART;TZID=Europe/Berlin:20240921T093000
DTEND;TZID=Europe/Berlin:20240921T123000
DTSTAMP:20260421T223130
CREATED:20240526T183729Z
LAST-MODIFIED:20240526T183729Z
UID:2022-1726911000-1726921800@pas-solingen.de
SUMMARY:Reitgruppe
DESCRIPTION:für Kinder ab 4 Jahren \n1. Gruppe: 09:30 – 11:00 Uhr\n2. Gruppe: 10:30 – 12:00 Uhr\n3. Gruppe: 11:30 – 12:30 Uhr \nKosten: 30\,00 € mtl. für Vereinsmitglieder (Geschwisterrabatt)
URL:https://pas-solingen.de/event/reitgruppe-12-2/
LOCATION:Jugendreitstall\, Hübben 25\, Solingen\, 42655\, Deutschland
CATEGORIES:Angebote für Kinder und Jugendliche
END:VEVENT
BEGIN:VEVENT
DTSTART;TZID=Europe/Berlin:20240923T093000
DTEND;TZID=Europe/Berlin:20240923T113000
DTSTAMP:20260421T223130
CREATED:20240526T184438Z
LAST-MODIFIED:20240526T184438Z
UID:2066-1727083800-1727091000@pas-solingen.de
SUMMARY:Systemische Beratung
DESCRIPTION:Systemische Beratung (verbindliches Gruppengespräch zu herausfordernden Themen in Pflege – und Adoptivfamilien) \nKosten: 50\,00 € im Halbjahr
URL:https://pas-solingen.de/event/systemische-beratung-6/
LOCATION:Nümmen 18\, Nümmen 18\, Solingen\, 42653
CATEGORIES:Angebote für Erwachsene
END:VEVENT
BEGIN:VEVENT
DTSTART;TZID=Europe/Berlin:20240926T153000
DTEND;TZID=Europe/Berlin:20240926T173000
DTSTAMP:20260421T223130
CREATED:20240526T184930Z
LAST-MODIFIED:20250112T211124Z
UID:2082-1727364600-1727371800@pas-solingen.de
SUMMARY:Mitbring-Kaffeetrinken
DESCRIPTION:Mitbring-Kaffeetrinken mit Kinderbetreuung. \nKosten: Nichtmitglieder 6\,50 €/Mitglieder: 5\,00 €
URL:https://pas-solingen.de/event/mitbring-kaffeetrinken/
LOCATION:Nümmen 18\, Nümmen 18\, Solingen\, 42653
CATEGORIES:Angebote für die ganze Familie
END:VEVENT
BEGIN:VEVENT
DTSTART;TZID=Europe/Berlin:20240927T170000
DTEND;TZID=Europe/Berlin:20240927T190000
DTSTAMP:20260421T223130
CREATED:20240526T183042Z
LAST-MODIFIED:20250112T211124Z
UID:1971-1727456400-1727463600@pas-solingen.de
SUMMARY:PAS Bogenkinder
DESCRIPTION:für Kinder (ab 10 Jahre)\, Jugendliche und Erwachsene \nMai – September freitags 17:00 – 19:00 Uhr Outdoor\,\nJosefstal\, Solingen \nKosten: 10\,00 € mtl. für Mitglieder
URL:https://pas-solingen.de/event/pas-bogenkinder-31-2/
CATEGORIES:Angebote für die ganze Familie
END:VEVENT
BEGIN:VEVENT
DTSTART;TZID=Europe/Berlin:20240928T093000
DTEND;TZID=Europe/Berlin:20240928T123000
DTSTAMP:20260421T223130
CREATED:20240526T183742Z
LAST-MODIFIED:20240526T183742Z
UID:2025-1727515800-1727526600@pas-solingen.de
SUMMARY:Reitgruppe
DESCRIPTION:für Kinder ab 4 Jahren \n1. Gruppe: 09:30 – 11:00 Uhr\n2. Gruppe: 10:30 – 12:00 Uhr\n3. Gruppe: 11:30 – 12:30 Uhr \nKosten: 30\,00 € mtl. für Vereinsmitglieder (Geschwisterrabatt)
URL:https://pas-solingen.de/event/reitgruppe-12-2-2/
LOCATION:Jugendreitstall\, Hübben 25\, Solingen\, 42655\, Deutschland
CATEGORIES:Angebote für Kinder und Jugendliche
END:VEVENT
END:VCALENDAR